BEGIN:VCALENDAR
VERSION:2.0
PRODID:-//Pickleball Tours - ECPv6.15.12.2//NONSGML v1.0//EN
CALSCALE:GREGORIAN
METHOD:PUBLISH
X-ORIGINAL-URL:https://pickleballuktour.co.uk
X-WR-CALDESC:Events for Pickleball Tours
REFRESH-INTERVAL;VALUE=DURATION:PT1H
X-Robots-Tag:noindex
X-PUBLISHED-TTL:PT1H
BEGIN:VTIMEZONE
TZID:Europe/London
BEGIN:DAYLIGHT
TZOFFSETFROM:+0000
TZOFFSETTO:+0100
TZNAME:BST
DTSTART:20250330T010000
END:DAYLIGHT
BEGIN:STANDARD
TZOFFSETFROM:+0100
TZOFFSETTO:+0000
TZNAME:GMT
DTSTART:20251026T010000
END:STANDARD
BEGIN:DAYLIGHT
TZOFFSETFROM:+0000
TZOFFSETTO:+0100
TZNAME:BST
DTSTART:20260329T010000
END:DAYLIGHT
BEGIN:STANDARD
TZOFFSETFROM:+0100
TZOFFSETTO:+0000
TZNAME:GMT
DTSTART:20261025T010000
END:STANDARD
BEGIN:DAYLIGHT
TZOFFSETFROM:+0000
TZOFFSETTO:+0100
TZNAME:BST
DTSTART:20270328T010000
END:DAYLIGHT
BEGIN:STANDARD
TZOFFSETFROM:+0100
TZOFFSETTO:+0000
TZNAME:GMT
DTSTART:20271031T010000
END:STANDARD
END:VTIMEZONE
BEGIN:VEVENT
DTSTART;VALUE=DATE:20260725
DTEND;VALUE=DATE:20260727
DTSTAMP:20260419T201144
CREATED:20260408T070734Z
LAST-MODIFIED:20260409T103557Z
UID:10000037-1784937600-1785110399@pickleballuktour.co.uk
SUMMARY:Belfast Pickleball UK Summer Champs
DESCRIPTION:we are extremly excited to announce pickleball uk’s first northern ireland tour event – the belfast summer champs.\nJoin us for a fantastic 2-day event on Saturday 25th and Sunday 26th July 2026\, as we bring the pickleball uk tour to the indoor tennis and ozone complex\, Ormeau Embankment\, Belfast BT6 8LT\n  \nThis promises to be another brilliant weekend of pickleball\, combining competitive play with the welcoming and social atmosphere that defines the Pickleball UK Tour. \n🔥 What to Expect\n\nRound robin + knockout formats\nEvents for a variety of levels and age groups\nA friendly but competitive environment\nPlenty of games guaranteed\nThe chance to compete against players from across the UK\n\n\n 
URL:https://pickleballuktour.co.uk/event/belfast-pickleball-uk-summer-champs/
LOCATION:Belfast Indoor Tennis Centre and Ozone Complex\, Ormeau Embankment\, Belfast\, BT6 8LT
ATTACH;FMTTYPE=image/jpeg:https://pickleballuktour.co.uk/wp-content/uploads/2026/04/Ozone-Belfast.jpg
END:VEVENT
END:VCALENDAR