BEGIN:VCALENDAR
VERSION:2.0
PRODID:-//Pickleball Tours - ECPv6.15.12.2//NONSGML v1.0//EN
CALSCALE:GREGORIAN
METHOD:PUBLISH
X-WR-CALNAME:Pickleball Tours
X-ORIGINAL-URL:https://pickleballuktour.co.uk
X-WR-CALDESC:Events for Pickleball Tours
REFRESH-INTERVAL;VALUE=DURATION:PT1H
X-Robots-Tag:noindex
X-PUBLISHED-TTL:PT1H
BEGIN:VTIMEZONE
TZID:Europe/London
BEGIN:DAYLIGHT
TZOFFSETFROM:+0000
TZOFFSETTO:+0100
TZNAME:BST
DTSTART:20250330T010000
END:DAYLIGHT
BEGIN:STANDARD
TZOFFSETFROM:+0100
TZOFFSETTO:+0000
TZNAME:GMT
DTSTART:20251026T010000
END:STANDARD
BEGIN:DAYLIGHT
TZOFFSETFROM:+0000
TZOFFSETTO:+0100
TZNAME:BST
DTSTART:20260329T010000
END:DAYLIGHT
BEGIN:STANDARD
TZOFFSETFROM:+0100
TZOFFSETTO:+0000
TZNAME:GMT
DTSTART:20261025T010000
END:STANDARD
BEGIN:DAYLIGHT
TZOFFSETFROM:+0000
TZOFFSETTO:+0100
TZNAME:BST
DTSTART:20270328T010000
END:DAYLIGHT
BEGIN:STANDARD
TZOFFSETFROM:+0100
TZOFFSETTO:+0000
TZNAME:GMT
DTSTART:20271031T010000
END:STANDARD
END:VTIMEZONE
BEGIN:VEVENT
DTSTART;VALUE=DATE:20260523
DTEND;VALUE=DATE:20260525
DTSTAMP:20260420T045912
CREATED:20260206T105237Z
LAST-MODIFIED:20260407T181302Z
UID:10000026-1779494400-1779667199@pickleballuktour.co.uk
SUMMARY:Swindon and West Pickleball UK Champs
DESCRIPTION:We are proud to announce our Swindon and West Pickleball UK Champs taking place on Saturday 23rd and Sunday 24th May 2026 at The Delta Tennis Centre\, Welton Road\, Swindon\, SN5 7XF. \nGet ready for a great weekend of Pickleball that will be fun\, but competitive.
URL:https://pickleballuktour.co.uk/event/swindon-and-west-pickleball-uk-champs/
LOCATION:Delta Tennis Centre\, Welton Road\, Swindon\, SN5 7XF\, United Kingdom
ATTACH;FMTTYPE=image/jpeg:https://pickleballuktour.co.uk/wp-content/uploads/2026/02/indoors-at-delta-1.jpg
END:VEVENT
BEGIN:VEVENT
DTSTART;VALUE=DATE:20260606
DTEND;VALUE=DATE:20260608
DTSTAMP:20260420T045912
CREATED:20260327T161413Z
LAST-MODIFIED:20260407T172004Z
UID:10000032-1780704000-1780876799@pickleballuktour.co.uk
SUMMARY:Liverpool Pickleball UK Tour Summer Event
DESCRIPTION:We are proud to announce our LIVERPOOL PICKLEBALL UK TOUR SUMMER EVENT taking place on Saturday 6th and Sunday 7TH JUNE 2026 at The LIVERPOOL TENNIS CENTRE\, WELLINGTON ROAD\, LIVERPOOL\, L15 4LE\n\n\nAfter the success of last July’s tournament in Liverpool\, Pickleball UK Tour return for our 2nd visit to the Liverpool Tennis Centre. We are excited and can’t wait to return. This event is part of the growing Pickleball UK Tour—where competitive play meets a welcoming\, social atmosphere. \n🔥 What to Expect\n\n\nRound robin + knockout formats \n\n\nEvents for a variety of levels and age groups \n\nA friendly welcome from the Pickleball UK team\n\nA fun but competitive environment \n\n\nPlenty of games \n\n\nA chance to compete against players from across the region \n\n\n\n 
URL:https://pickleballuktour.co.uk/event/liverpool-pickleball-uk-tour-summer-event/
LOCATION:Liverpool Tennis Centre\, Wavertree Sports Park\, Wellington Road\, Liverpool\, L15 4LE
ATTACH;FMTTYPE=image/jpeg:https://pickleballuktour.co.uk/wp-content/uploads/2026/03/Liverpool-tennis-centre-1.jpg
END:VEVENT
BEGIN:VEVENT
DTSTART;VALUE=DATE:20260620
DTEND;VALUE=DATE:20260621
DTSTAMP:20260420T045912
CREATED:20260330T081056Z
LAST-MODIFIED:20260408T054518Z
UID:10000033-1781913600-1781999999@pickleballuktour.co.uk
SUMMARY:Sunderland and North East Summer Pickleball UK Tournament
DESCRIPTION:WE RETURN TO SUNDERLAND FOR OUR NORTH EAST SUMMER PICKLEBALL UK TOUR TOURNAMENT TAKING PLACE ON SATURDAY 20TH JUNE AT THE BEACON OF LIGHT CENTRE\, Stadium Park\, Sunderland\, SR5 1SN\nAFTER THE SUCCESS OF OUR LAST TOURNAMENT IN DECEMBER 2025\, WE LOOK FORWARD TO RETURNING AND ORGANISING A GREAT DAY OF PICKLEBALL. a friendly WELCOME\, FUN atmosphere\, BUT a competitive spirt and Medals up for grabs.\n\n  \n 
URL:https://pickleballuktour.co.uk/event/sunderland-and-north-east-summer-pickleball-uk-tournament/
LOCATION:Beacon Of Light\, Stadium Park\, Sunderland\, SR5 1SN
END:VEVENT
BEGIN:VEVENT
DTSTART;VALUE=DATE:20260627
DTEND;VALUE=DATE:20260629
DTSTAMP:20260420T045912
CREATED:20260330T093531Z
LAST-MODIFIED:20260408T070315Z
UID:10000034-1782518400-1782691199@pickleballuktour.co.uk
SUMMARY:Somerset Pickleball UK Summer Tour Event
DESCRIPTION:The Pickleball UK Tour continues its journey across the country—and next stop\, the somerset summer tour event.\ntaking place on Saturday 27th and Sunday 28th june 2026 at millfield school tennis centre\, Butleigh Road\,\nSTREET\, Somerset\, BA16 0YD\n\n\nThis will be the first event the Pickleball UK Tour have hosted in Somerset and we can’t wait to welcome you. This event is part of the growing Pickleball UK Tour—where competitive play meets a welcoming\, social atmosphere. \n🔥 What to Expect\n\n\nRound robin + knockout formats \n\n\nEvents for a variety of levels and age groups \n\n\nA friendly but competitive environment \n\n\nPlenty of games \n\n\nA chance to compete against players from across East Anglia and the country \n\n\n\n 
URL:https://pickleballuktour.co.uk/event/somerset-pickleball-uk-summer-tour-event/
LOCATION:Millfields School Tennis Centre\, Butleigh Road\,\, Street\, Somerset\, BA16 0YD
ATTACH;FMTTYPE=image/webp:https://pickleballuktour.co.uk/wp-content/uploads/2026/03/Millfield-School-Tennis.jpg.webp
END:VEVENT
BEGIN:VEVENT
DTSTART;VALUE=DATE:20260711
DTEND;VALUE=DATE:20260713
DTSTAMP:20260420T045912
CREATED:20260408T062346Z
LAST-MODIFIED:20260408T063420Z
UID:10000035-1783728000-1783900799@pickleballuktour.co.uk
SUMMARY:Home Counties Pickleball UK Summer Tour Event
DESCRIPTION:We are excited to be returning to Gosling Sports Park for the third time as part of the Pickleball UK Tour!\nJoin us for a fantastic 2-day event on Saturday 11th and Sunday 12th July 2026\, as we bring the Home Counties Summer Tour back to Welwyn Garden City.\nLocation: Gosling Sports Centre\, Stanborough Rd\, Welwyn Garden City\, AL8 6XE \nThis promises to be another brilliant weekend of pickleball\, combining competitive play with the welcoming and social atmosphere that defines the Pickleball UK Tour. \n\n🔥 What to Expect\n\nRound robin + knockout formats\nEvents for a variety of levels and age groups\nA friendly but competitive environment\nPlenty of games guaranteed\nThe chance to compete against players from across the region and the UK\n\nWhether you’ve played at Gosling before or are joining us for the first time\, this event is shaping up to be one of the highlights of the summer. \nWe can’t wait to see you back on court! 🔥🏓 \n\n 
URL:https://pickleballuktour.co.uk/event/home-counties-pickleball-uk-summer-tour-event/
LOCATION:Gosling Sports Centre\, Stanborough Road\, Welwyn Garden City\, Hertfordshire\, AL8 6XE
ATTACH;FMTTYPE=image/jpeg:https://pickleballuktour.co.uk/wp-content/uploads/2026/03/Gosling.jpeg
END:VEVENT
BEGIN:VEVENT
DTSTART;VALUE=DATE:20260725
DTEND;VALUE=DATE:20260727
DTSTAMP:20260420T045912
CREATED:20260408T070734Z
LAST-MODIFIED:20260409T103557Z
UID:10000037-1784937600-1785110399@pickleballuktour.co.uk
SUMMARY:Belfast Pickleball UK Summer Champs
DESCRIPTION:we are extremly excited to announce pickleball uk’s first northern ireland tour event – the belfast summer champs.\nJoin us for a fantastic 2-day event on Saturday 25th and Sunday 26th July 2026\, as we bring the pickleball uk tour to the indoor tennis and ozone complex\, Ormeau Embankment\, Belfast BT6 8LT\n  \nThis promises to be another brilliant weekend of pickleball\, combining competitive play with the welcoming and social atmosphere that defines the Pickleball UK Tour. \n🔥 What to Expect\n\nRound robin + knockout formats\nEvents for a variety of levels and age groups\nA friendly but competitive environment\nPlenty of games guaranteed\nThe chance to compete against players from across the UK\n\n\n 
URL:https://pickleballuktour.co.uk/event/belfast-pickleball-uk-summer-champs/
LOCATION:Belfast Indoor Tennis Centre and Ozone Complex\, Ormeau Embankment\, Belfast\, BT6 8LT
ATTACH;FMTTYPE=image/jpeg:https://pickleballuktour.co.uk/wp-content/uploads/2026/04/Ozone-Belfast.jpg
END:VEVENT
BEGIN:VEVENT
DTSTART;VALUE=DATE:20260808
DTEND;VALUE=DATE:20260810
DTSTAMP:20260420T045912
CREATED:20260409T094900Z
LAST-MODIFIED:20260409T112607Z
UID:10000038-1786147200-1786319999@pickleballuktour.co.uk
SUMMARY:London and Essex Pickleball UK Summer Champs
DESCRIPTION:we are extremly excited and proud to announce pickleball uk’s first london and essex pickleball uk summer champs tour event.\na 2-day event in the east of london taking place on Saturday 8th and Sunday 9th august 2026\, at the redbridge indoor tennis centre\, forest road\, ilford\n  \nThis promises to be another brilliant weekend of pickleball\, combining competitive play with the welcoming and social atmosphere that defines the Pickleball UK Tour. \n🔥 What to Expect\n\n16 indoor acrylic courts\nRound robin + knockout formats\nEvents for a variety of levels and age groups\nA friendly but competitive environment\nPlenty of games guaranteed\nThe chance to compete against players from across the UK\n\n\n 
URL:https://pickleballuktour.co.uk/event/london-and-essex-pickleball-uk-summer-champs/
LOCATION:Redbridge Sports Centre\, Forest Road\, Barkingside\, Essex\, IG6 3HD
ATTACH;FMTTYPE=image/jpeg:https://pickleballuktour.co.uk/wp-content/uploads/2026/04/Redbridge-Sports-Leisure.jpg
END:VEVENT
BEGIN:VEVENT
DTSTART;VALUE=DATE:20260822
DTEND;VALUE=DATE:20260824
DTSTAMP:20260420T045912
CREATED:20260409T113501Z
LAST-MODIFIED:20260409T113526Z
UID:10000041-1787356800-1787529599@pickleballuktour.co.uk
SUMMARY:Cornwall and West Country Summer Tour Event
DESCRIPTION:REGISTRATION COMING SOON
URL:https://pickleballuktour.co.uk/event/cornwall-and-west-country-summer-tour-event/
LOCATION:Bodmin Leisure Centre\, Dragon Centre\, Lostwithiel Road\, Bodmin\, Cornwall\, PL31 1DE
ATTACH;FMTTYPE=image/jpeg:https://pickleballuktour.co.uk/wp-content/uploads/2026/04/Bodmin-Leisure-Centre.jpeg
END:VEVENT
BEGIN:VEVENT
DTSTART;VALUE=DATE:20260906
DTEND;VALUE=DATE:20260907
DTSTAMP:20260420T045912
CREATED:20260409T110111Z
LAST-MODIFIED:20260409T112434Z
UID:10000039-1788652800-1788739199@pickleballuktour.co.uk
SUMMARY:West Sussex Pickleball UK Tour Event
DESCRIPTION:REGISTRATION AND FULL DETAILS COMING SOON
URL:https://pickleballuktour.co.uk/event/west-sussex-pickleball-uk-tour-event/
LOCATION:K2 Crawley\, Pease Pottage Hill\, Crawley\, West Sussex\, RH11 9BQ
ATTACH;FMTTYPE=image/jpeg:https://pickleballuktour.co.uk/wp-content/uploads/2026/04/k2-crawley.jpg
END:VEVENT
BEGIN:VEVENT
DTSTART;VALUE=DATE:20260919
DTEND;VALUE=DATE:20260921
DTSTAMP:20260420T045912
CREATED:20260409T112033Z
LAST-MODIFIED:20260409T112113Z
UID:10000040-1789776000-1789948799@pickleballuktour.co.uk
SUMMARY:Aldershot Pickleball UK End Of Summer Event
DESCRIPTION:REGISTRATION COMING SOON
URL:https://pickleballuktour.co.uk/event/aldershot-pickleball-uk-end-of-summer-event/
LOCATION:Aldershot Tennis Centre\, Prince’s Avenue\, Aldershot\, GU11 2LD\, United Kingdom
ATTACH;FMTTYPE=image/avif:https://pickleballuktour.co.uk/wp-content/uploads/2026/04/Aldershot-Tennis-Centre.avif
END:VEVENT
END:VCALENDAR