BEGIN:VCALENDAR
VERSION:2.0
PRODID:-//Pickleball Tours - ECPv6.15.12.2//NONSGML v1.0//EN
CALSCALE:GREGORIAN
METHOD:PUBLISH
X-WR-CALNAME:Pickleball Tours
X-ORIGINAL-URL:https://pickleballuktour.co.uk
X-WR-CALDESC:Events for Pickleball Tours
REFRESH-INTERVAL;VALUE=DURATION:PT1H
X-Robots-Tag:noindex
X-PUBLISHED-TTL:PT1H
BEGIN:VTIMEZONE
TZID:Europe/London
BEGIN:DAYLIGHT
TZOFFSETFROM:+0000
TZOFFSETTO:+0100
TZNAME:BST
DTSTART:20250330T010000
END:DAYLIGHT
BEGIN:STANDARD
TZOFFSETFROM:+0100
TZOFFSETTO:+0000
TZNAME:GMT
DTSTART:20251026T010000
END:STANDARD
BEGIN:DAYLIGHT
TZOFFSETFROM:+0000
TZOFFSETTO:+0100
TZNAME:BST
DTSTART:20260329T010000
END:DAYLIGHT
BEGIN:STANDARD
TZOFFSETFROM:+0100
TZOFFSETTO:+0000
TZNAME:GMT
DTSTART:20261025T010000
END:STANDARD
BEGIN:DAYLIGHT
TZOFFSETFROM:+0000
TZOFFSETTO:+0100
TZNAME:BST
DTSTART:20270328T010000
END:DAYLIGHT
BEGIN:STANDARD
TZOFFSETFROM:+0100
TZOFFSETTO:+0000
TZNAME:GMT
DTSTART:20271031T010000
END:STANDARD
END:VTIMEZONE
BEGIN:VEVENT
DTSTART;VALUE=DATE:20260906
DTEND;VALUE=DATE:20260907
DTSTAMP:20260420T023715
CREATED:20260409T110111Z
LAST-MODIFIED:20260409T112434Z
UID:10000039-1788652800-1788739199@pickleballuktour.co.uk
SUMMARY:West Sussex Pickleball UK Tour Event
DESCRIPTION:REGISTRATION AND FULL DETAILS COMING SOON
URL:https://pickleballuktour.co.uk/event/west-sussex-pickleball-uk-tour-event/
LOCATION:K2 Crawley\, Pease Pottage Hill\, Crawley\, West Sussex\, RH11 9BQ
ATTACH;FMTTYPE=image/jpeg:https://pickleballuktour.co.uk/wp-content/uploads/2026/04/k2-crawley.jpg
END:VEVENT
BEGIN:VEVENT
DTSTART;VALUE=DATE:20260919
DTEND;VALUE=DATE:20260921
DTSTAMP:20260420T023715
CREATED:20260409T112033Z
LAST-MODIFIED:20260409T112113Z
UID:10000040-1789776000-1789948799@pickleballuktour.co.uk
SUMMARY:Aldershot Pickleball UK End Of Summer Event
DESCRIPTION:REGISTRATION COMING SOON
URL:https://pickleballuktour.co.uk/event/aldershot-pickleball-uk-end-of-summer-event/
LOCATION:Aldershot Tennis Centre\, Prince’s Avenue\, Aldershot\, GU11 2LD\, United Kingdom
ATTACH;FMTTYPE=image/avif:https://pickleballuktour.co.uk/wp-content/uploads/2026/04/Aldershot-Tennis-Centre.avif
END:VEVENT
END:VCALENDAR