BEGIN:VCALENDAR
VERSION:2.0
PRODID:-//Pickleball Tours - ECPv6.15.12.2//NONSGML v1.0//EN
CALSCALE:GREGORIAN
METHOD:PUBLISH
X-WR-CALNAME:Pickleball Tours
X-ORIGINAL-URL:https://pickleballuktour.co.uk
X-WR-CALDESC:Events for Pickleball Tours
REFRESH-INTERVAL;VALUE=DURATION:PT1H
X-Robots-Tag:noindex
X-PUBLISHED-TTL:PT1H
BEGIN:VTIMEZONE
TZID:Europe/London
BEGIN:DAYLIGHT
TZOFFSETFROM:+0000
TZOFFSETTO:+0100
TZNAME:BST
DTSTART:20250330T010000
END:DAYLIGHT
BEGIN:STANDARD
TZOFFSETFROM:+0100
TZOFFSETTO:+0000
TZNAME:GMT
DTSTART:20251026T010000
END:STANDARD
BEGIN:DAYLIGHT
TZOFFSETFROM:+0000
TZOFFSETTO:+0100
TZNAME:BST
DTSTART:20260329T010000
END:DAYLIGHT
BEGIN:STANDARD
TZOFFSETFROM:+0100
TZOFFSETTO:+0000
TZNAME:GMT
DTSTART:20261025T010000
END:STANDARD
BEGIN:DAYLIGHT
TZOFFSETFROM:+0000
TZOFFSETTO:+0100
TZNAME:BST
DTSTART:20270328T010000
END:DAYLIGHT
BEGIN:STANDARD
TZOFFSETFROM:+0100
TZOFFSETTO:+0000
TZNAME:GMT
DTSTART:20271031T010000
END:STANDARD
END:VTIMEZONE
BEGIN:VEVENT
DTSTART;VALUE=DATE:20260418
DTEND;VALUE=DATE:20260420
DTSTAMP:20260419T141327
CREATED:20260206T105055Z
LAST-MODIFIED:20260409T164902Z
UID:10000025-1776470400-1776643199@pickleballuktour.co.uk
SUMMARY:Norwich and East Anglia Spring Champs
DESCRIPTION:We are proud to announce our Norwich and East Anglia Spring Champs taking place on Saturday 18th and Sunday 19th April 2026 at The Eastons Tennis Centre\, Bawburgh Road\, Norwich\, NR9 5DU\n\n\nThis will be the first event the Pickleball UK tour have hosted in Norwich and we can’t wait to welcome you. This event is part of the growing Pickleball UK Tour—where competitive play meets a welcoming\, social atmosphere. \n🔥 What to Expect\n\n\nRound robin + knockout formats \n\n\nEvents for a variety of levels and age groups \n\n\nA friendly but competitive environment \n\n\nPlenty of games \n\n\nA chance to compete against players from across East Anglia and the country \n\n\n\n 
URL:https://pickleballuktour.co.uk/event/norwich-and-east-anglia-spring-champs/
LOCATION:Easton’s Tennis Centre\, Bawburgh Road\, Norwich\, NR9 5DU\, United Kingdom
ATTACH;FMTTYPE=image/jpeg:https://pickleballuktour.co.uk/wp-content/uploads/2026/02/Eastons-Tennis-Centre-1.jpg
END:VEVENT
END:VCALENDAR