BEGIN:VCALENDAR
VERSION:2.0
PRODID:-//Pickleball Tours - ECPv6.15.12.2//NONSGML v1.0//EN
CALSCALE:GREGORIAN
METHOD:PUBLISH
X-WR-CALNAME:Pickleball Tours
X-ORIGINAL-URL:https://pickleballuktour.co.uk
X-WR-CALDESC:Events for Pickleball Tours
REFRESH-INTERVAL;VALUE=DURATION:PT1H
X-Robots-Tag:noindex
X-PUBLISHED-TTL:PT1H
BEGIN:VTIMEZONE
TZID:Europe/London
BEGIN:DAYLIGHT
TZOFFSETFROM:+0000
TZOFFSETTO:+0100
TZNAME:BST
DTSTART:20250330T010000
END:DAYLIGHT
BEGIN:STANDARD
TZOFFSETFROM:+0100
TZOFFSETTO:+0000
TZNAME:GMT
DTSTART:20251026T010000
END:STANDARD
BEGIN:DAYLIGHT
TZOFFSETFROM:+0000
TZOFFSETTO:+0100
TZNAME:BST
DTSTART:20260329T010000
END:DAYLIGHT
BEGIN:STANDARD
TZOFFSETFROM:+0100
TZOFFSETTO:+0000
TZNAME:GMT
DTSTART:20261025T010000
END:STANDARD
BEGIN:DAYLIGHT
TZOFFSETFROM:+0000
TZOFFSETTO:+0100
TZNAME:BST
DTSTART:20270328T010000
END:DAYLIGHT
BEGIN:STANDARD
TZOFFSETFROM:+0100
TZOFFSETTO:+0000
TZNAME:GMT
DTSTART:20271031T010000
END:STANDARD
END:VTIMEZONE
BEGIN:VEVENT
DTSTART;VALUE=DATE:20260523
DTEND;VALUE=DATE:20260525
DTSTAMP:20260419T155725
CREATED:20260206T105237Z
LAST-MODIFIED:20260407T181302Z
UID:10000026-1779494400-1779667199@pickleballuktour.co.uk
SUMMARY:Swindon and West Pickleball UK Champs
DESCRIPTION:We are proud to announce our Swindon and West Pickleball UK Champs taking place on Saturday 23rd and Sunday 24th May 2026 at The Delta Tennis Centre\, Welton Road\, Swindon\, SN5 7XF. \nGet ready for a great weekend of Pickleball that will be fun\, but competitive.
URL:https://pickleballuktour.co.uk/event/swindon-and-west-pickleball-uk-champs/
LOCATION:Delta Tennis Centre\, Welton Road\, Swindon\, SN5 7XF\, United Kingdom
ATTACH;FMTTYPE=image/jpeg:https://pickleballuktour.co.uk/wp-content/uploads/2026/02/indoors-at-delta-1.jpg
END:VEVENT
END:VCALENDAR